BEGIN:VCALENDAR
VERSION:2.0
PRODID:spatie/icalendar-generator
DESCRIPTION:Events from Delphi Falls United Church
X-WR-CALDESC:Events from Delphi Falls United Church
REFRESH-INTERVAL;VALUE=DURATION:PT1440M
X-PUBLISHED-TTL:PT1440M
BEGIN:VTIMEZONE
TZID:America/New_York
BEGIN:STANDARD
DTSTART:20251102T020000Z
TZOFFSETFROM:-0400
TZOFFSETTO:-0500
END:STANDARD
BEGIN:DAYLIGHT
DTSTART:20260308T020000Z
TZOFFSETFROM:-0500
TZOFFSETTO:-0400
END:DAYLIGHT
BEGIN:STANDARD
DTSTART:20261101T020000Z
TZOFFSETFROM:-0400
TZOFFSETTO:-0500
END:STANDARD
END:VTIMEZONE
BEGIN:VTIMEZONE
TZID:UTC
BEGIN:STANDARD
DTSTART:20250724T070919Z
TZOFFSETFROM:+0000
TZOFFSETTO:+0000
END:STANDARD
END:VTIMEZONE
BEGIN:VEVENT
UID:289-15
DTSTAMP:20260420T070919Z
SUMMARY:Fabius Pompey Outreach Food Pantry
LOCATION:
ORGANIZER;CN=admin:MAILTO:rjbecker1@twcny.rr.com
DTSTART;TZID=America/New_York:20260509T150000
DTEND;TZID=America/New_York:20260509T173000
X-ALT-DESC;FMTTYPE=TEXT/HTML:&amp;nbsp\; F-P Outreach is the local food pantry 
 for the Fabius-Pompey area. We are located in the Fabius Community Center 
 and are opened every other Thursday from 3:00 to 6:00 p.m. and every other
  Saturday from 10:00 a.m. to noon in Delphi Falls. Fabius Pompey Outreach 
 began in 1988 to help our neighbors in need.&amp;hellip\;
CATEGORIES:General
URL;VALUE=URI:https://www.delphiunitedchurch.org/mc-events/fabius-pompey-ou
 treach-food-pantry-6/?mc_id=289
END:VEVENT
END:VCALENDAR