BEGIN:VCALENDAR
VERSION:2.0
PRODID:spatie/icalendar-generator
DESCRIPTION:Events from Delphi Falls United Church
X-WR-CALDESC:Events from Delphi Falls United Church
REFRESH-INTERVAL;VALUE=DURATION:PT1440M
X-PUBLISHED-TTL:PT1440M
BEGIN:VTIMEZONE
TZID:America/New_York
BEGIN:STANDARD
DTSTART:20251102T020000Z
TZOFFSETFROM:-0400
TZOFFSETTO:-0500
END:STANDARD
BEGIN:DAYLIGHT
DTSTART:20260308T020000Z
TZOFFSETFROM:-0500
TZOFFSETTO:-0400
END:DAYLIGHT
BEGIN:STANDARD
DTSTART:20261101T020000Z
TZOFFSETFROM:-0400
TZOFFSETTO:-0500
END:STANDARD
END:VTIMEZONE
BEGIN:VTIMEZONE
TZID:UTC
BEGIN:STANDARD
DTSTART:20250724T055357Z
TZOFFSETFROM:+0000
TZOFFSETTO:+0000
END:STANDARD
END:VTIMEZONE
BEGIN:VEVENT
UID:251-22
DTSTAMP:20260420T055357Z
SUMMARY:Hour Of Prayer
LOCATION:
ORGANIZER;CN=admin:MAILTO:rjbecker1@twcny.rr.com
RRULE:FREQ=WEEKLY;UNTIL=20261001T000000Z
DTSTART;TZID=America/New_York:20260506T180000
DTEND;TZID=America/New_York:20260506T190000
X-ALT-DESC;FMTTYPE=TEXT/HTML:&amp;nbsp\; Commencing on Wednesday\, April 15th\,
  and every subsequent Wednesday from 6pm to 7pm\, the Church will be open 
 to all individuals who wish to engage in quiet contemplation and prayer\, 
 either independently or as part of a prayer circle. The church will be ope
 n for a one-hour period dedicated to prayer\, without any formal&amp;hellip\;
CATEGORIES:General
URL;VALUE=URI:https://www.delphiunitedchurch.org/mc-events/hour-of-prayer/?
 mc_id=251
END:VEVENT
END:VCALENDAR